BEGIN:VCALENDAR
VERSION:2.0
PRODID:-//World Zarathushti Chamber Of Commerce - ECPv6.15.19//NONSGML v1.0//EN
CALSCALE:GREGORIAN
METHOD:PUBLISH
X-ORIGINAL-URL:https://wzcc.org
X-WR-CALDESC:Events for World Zarathushti Chamber Of Commerce
REFRESH-INTERVAL;VALUE=DURATION:PT1H
X-Robots-Tag:noindex
X-PUBLISHED-TTL:PT1H
BEGIN:VTIMEZONE
TZID:UTC
BEGIN:STANDARD
TZOFFSETFROM:+0000
TZOFFSETTO:+0000
TZNAME:UTC
DTSTART:20240101T000000
END:STANDARD
END:VTIMEZONE
BEGIN:VEVENT
DTSTART;TZID=UTC:20250920T183000
DTEND;TZID=UTC:20250920T210000
DTSTAMP:20260424T065644
CREATED:20250809T060057Z
LAST-MODIFIED:20251009T102913Z
UID:19335-1758393000-1758402000@wzcc.org
SUMMARY:India Region Annual General Meeting 2025
DESCRIPTION:Topic: WZCC AGM \nTime: Sep 20\, 2025 06:00 PM India\n\nJoin Zoom Meeting \nhttps://us02web.zoom.us/j/88088992775?pwd=oguw4Rar2tYK5EajXIYzb6OlJcaYrL.1\n\nMeeting ID: 880 8899 2775 \nPasscode: 072607
URL:https://wzcc.org/events/india-region-annual-general-meeting-2025/
CATEGORIES:Mumbai
ATTACH;FMTTYPE=image/jpeg:https://wzcc.org/wp-content/uploads/2025/09/INDIA-REGION.jpg
END:VEVENT
END:VCALENDAR