BEGIN:VCALENDAR
VERSION:2.0
PRODID:-//World Zarathushti Chamber Of Commerce - ECPv6.15.19//NONSGML v1.0//EN
CALSCALE:GREGORIAN
METHOD:PUBLISH
X-WR-CALNAME:World Zarathushti Chamber Of Commerce
X-ORIGINAL-URL:https://wzcc.org
X-WR-CALDESC:Events for World Zarathushti Chamber Of Commerce
REFRESH-INTERVAL;VALUE=DURATION:PT1H
X-Robots-Tag:noindex
X-PUBLISHED-TTL:PT1H
BEGIN:VTIMEZONE
TZID:UTC
BEGIN:STANDARD
TZOFFSETFROM:+0000
TZOFFSETTO:+0000
TZNAME:UTC
DTSTART:20250101T000000
END:STANDARD
END:VTIMEZONE
BEGIN:VEVENT
DTSTART;TZID=UTC:20260306T170000
DTEND;TZID=UTC:20260306T203000
DTSTAMP:20260423T211050
CREATED:20260227T063156Z
LAST-MODIFIED:20260227T063422Z
UID:22039-1772816400-1772829000@wzcc.org
SUMMARY:6th March - WZCC Internship and Mentorship Program
DESCRIPTION:
URL:https://wzcc.org/events/6th-march-wzcc-internship-and-mentorship-program/
CATEGORIES:Mumbai
END:VEVENT
END:VCALENDAR