BEGIN:VCALENDAR
VERSION:2.0
PRODID:-//World Zarathushti Chamber Of Commerce - ECPv6.15.19//NONSGML v1.0//EN
CALSCALE:GREGORIAN
METHOD:PUBLISH
X-ORIGINAL-URL:https://wzcc.org
X-WR-CALDESC:Events for World Zarathushti Chamber Of Commerce
REFRESH-INTERVAL;VALUE=DURATION:PT1H
X-Robots-Tag:noindex
X-PUBLISHED-TTL:PT1H
BEGIN:VTIMEZONE
TZID:UTC
BEGIN:STANDARD
TZOFFSETFROM:+0000
TZOFFSETTO:+0000
TZNAME:UTC
DTSTART:20250101T000000
END:STANDARD
END:VTIMEZONE
BEGIN:VEVENT
DTSTART;TZID=UTC:20260307T190000
DTEND;TZID=UTC:20260307T210000
DTSTAMP:20260423T211131
CREATED:20260302T125606Z
LAST-MODIFIED:20260302T125851Z
UID:22056-1772910000-1772917200@wzcc.org
SUMMARY:International Women's Day on 7th Mar'26 at Diplomat Hotel\, Colaba
DESCRIPTION:WZCC Mumbai Chapter celebrates International Women’s Day on 7th Mar’26 at Diplomat Hotel\, Colaba\, 7pm onwards\n\n\nLooking forward to meeting you. For registration & Enquires\, please contact \nRohinton Panthaky          – 98926 97972\nBurges Wania                     –  98191 55941\nPercis Dubash                    –  98201 31150
URL:https://wzcc.org/events/international-womens-day-on-7th-mar26-at-diplomat-hotel-colaba/
CATEGORIES:Mumbai
END:VEVENT
END:VCALENDAR