BEGIN:VCALENDAR
VERSION:2.0
PRODID:-//World Zarathushti Chamber Of Commerce - ECPv6.15.19//NONSGML v1.0//EN
CALSCALE:GREGORIAN
METHOD:PUBLISH
X-WR-CALNAME:World Zarathushti Chamber Of Commerce
X-ORIGINAL-URL:https://wzcc.org
X-WR-CALDESC:Events for World Zarathushti Chamber Of Commerce
REFRESH-INTERVAL;VALUE=DURATION:PT1H
X-Robots-Tag:noindex
X-PUBLISHED-TTL:PT1H
BEGIN:VTIMEZONE
TZID:UTC
BEGIN:STANDARD
TZOFFSETFROM:+0000
TZOFFSETTO:+0000
TZNAME:UTC
DTSTART:20250101T000000
END:STANDARD
END:VTIMEZONE
BEGIN:VEVENT
DTSTART;TZID=UTC:20260314T150000
DTEND;TZID=UTC:20260314T170000
DTSTAMP:20260420T130127
CREATED:20260305T080047Z
LAST-MODIFIED:20260305T080341Z
UID:22066-1773500400-1773507600@wzcc.org
SUMMARY:Women Creating Wealth & Influence
DESCRIPTION:ZOOM DETAILS \nSat. 14th March\, 3PM\, AEDST \nLink to Zoom Event\nhttps://us06web.zoom.us/j/87631346768?pwd=zb0jP8ohr8a2rDLrMibe2O3t2EVbUn.1#success \nIndia 9.30am\nUK 4am\nNZ 5pm\nUS 11pm EST 13th March
URL:https://wzcc.org/events/women-creating-wealth-influence/
CATEGORIES:Australia,WE-Mumbai
END:VEVENT
END:VCALENDAR