BEGIN:VCALENDAR
VERSION:2.0
PRODID:-//World Zarathushti Chamber Of Commerce - ECPv6.15.19//NONSGML v1.0//EN
CALSCALE:GREGORIAN
METHOD:PUBLISH
X-WR-CALNAME:World Zarathushti Chamber Of Commerce
X-ORIGINAL-URL:https://wzcc.org
X-WR-CALDESC:Events for World Zarathushti Chamber Of Commerce
REFRESH-INTERVAL;VALUE=DURATION:PT1H
X-Robots-Tag:noindex
X-PUBLISHED-TTL:PT1H
BEGIN:VTIMEZONE
TZID:UTC
BEGIN:STANDARD
TZOFFSETFROM:+0000
TZOFFSETTO:+0000
TZNAME:UTC
DTSTART:20160101T000000
END:STANDARD
END:VTIMEZONE
BEGIN:VEVENT
DTSTART;TZID=UTC:20170520T080000
DTEND;TZID=UTC:20231222T170000
DTSTAMP:20260425T020928
CREATED:20231222T113559Z
LAST-MODIFIED:20231222T113559Z
UID:13467-1495267200-1703264400@wzcc.org
SUMMARY:WZCC’s commitment to Health & Happiness
DESCRIPTION:Event held on Saturday\, April 29th\, 2017 from 10.30 am to 2.00 pm. \nHeld on the grounds of The Green Pocket nursery school owned by our Committee Member\, Anahita Batha. \nThe event was organised by the Committee to give its members an insight into Fitness for everyday living. We invited five professionals who held an interactive session with our members and their guests through a very informative and enjoyable afternoon. \nGodrej Rustumji – Safety and Self Defence \nGodrej is a WZCC member of the Bangalore Chapter and is an International Close Protection Officer catering to foreign national protection in India. He is also a firearm instructor. Godrej held the audience’s attention with some verbal pointers on how to be alert and observe one’s surroundings along with exciting self defence manoeuvres with volunteers from the audience. We saw quite a demand for more such sessions in the future. \n[foogallery id=”5680″] \nDr Prathap – Chiropractor \nDr. Prathap is one of 10 practicing chiropractors in all of India and has his own wellness centre in Indiranagar. Originally from Canada\, Dr. Prathap completed his doctorate in new York and strongly believes that prevention is the best cure for any health related issues. \nMany in the audience were not aware of what and how a Chiropractor works\, so the talk by Dr. Prathap was enlightening to many. He brought along “Alfred”\, his partner in crime (!) – a skeletal spine\, to explain the physiology angle of his work. He demonstrated a few exercises that all of us could do on a daily basis to reduce the stress of long hours at a desk. His light humour entertained the audience through the 20 minutes he was on the dais. \n[foogallery id=”5682″] \nSiddharth & Shaila – Fitness Trainer & Zumba Instructor \nSiddharth comes from an IT background but decided to switch careers because he wanted to help people live a healthier lifestyle. He is a Crossfit Level 2 coach and a personal trainer who also helps in rehabilitation workouts for sports injuries. \nShaila is a Zumba instructor and full of life and vitality. \nSiddharth took the audience through the necessities of working out and remaining fit\, showing the audience what can be done even if one does not have the facilities of a gym. \nShaila took us through a fun Zumba workout which got everyone ready for eats. \n[foogallery id=”5686″] \nFarzin Sholapurwala – Certified Yoga Therapist and Trainer \nFarzin is a Life Member of the WZCC and has been practicing yoga for the last 15 years. She had found her own yoga centre and taught over 7100 students till date. She took the audience through some breathing techniques for glowing skin\, the benefits of yoga and then practised the Suryanamaskar along with members of the audience who were keen to know the correct way of performing it. \n[foogallery id=”5690″] \nRed Fork had arranged the snacks \nA Millet Salad and a Pasta Salad\, two kinds of sandwiches and baked yoghurt with granola. Everyone enjoyed it thoroughly and Chef Xerxes spent time explaining how one should eat a balanced meal\, avoid yo-yo diets and how millets are the new in ingredient and can be used in many ways. \n[foogallery id=”5692″] \n  \nDespite the small numbers\, it was a successful event.
URL:https://wzcc.org/events/wzccs-commitment-to-health-happiness/
CATEGORIES:Bengaluru
END:VEVENT
BEGIN:VEVENT
DTSTART;TZID=UTC:20170725T080000
DTEND;TZID=UTC:20231222T170000
DTSTAMP:20260425T020928
CREATED:20231222T113441Z
LAST-MODIFIED:20231222T113441Z
UID:13465-1500969600-1703264400@wzcc.org
SUMMARY:WZCC NETWORKING MEET – July 21\, 2017
DESCRIPTION:Dear Members\, \nGreetings from WZCC. \nThough few in numbers\, the second networking meeting was very successful as felt by all members present. Here is a small note of what transpired for all those who did not attend. We strongly recommend that more members make it for the August meeting as this will greatly help your contact sphere and business. \nMeeting began by Zarine narrating how networking in the first meeting had helped her. She had expressed her dire need for a Manager for the restaurant. A few days later\, Navaz Lalkaka tagged Zarine on a FB post where an employment agency had listed the candidates available for restaurants. Within two days Zarine had found her self a Manager and also given the offer letter to the suitable candidate. \nThe second incident Zarine gave was where a large catering order\, and a repeat one\, was grabbed by her restaurant Red Fork\, thanks to a WZCC member introducing Zarine to her husband. Again networking paid off. \nBelow are requirements of some of the members present. Anyone with contacts or can assist in any way will be appreciated. \nRequirements : \n1. Anahita Batha – Runs a play school – The Green Pocket / Day care Centre / Library for kids / Hosts kids birthday parties and camps at her school. \nLooking for : A story teller and a capable supervisor for her day care centre \n2. Zarir Bhaurcha – Already has an established business. Is passionate and knowledgable about music. Also teaches piano. Was instrumental in launching his son\, Neville’s\, music career. \nLooking for : Some new business interests. \n3. Cyrus Bharucha – Is a Chartered Accountant and a partner at Kalyaniwala & Mistry. \nLooking for : A young Parsi CA whom he can train to become a partner. Needs to be based in Bangalore \n4. Zarine – Has a Restaurant Red Fork and also does catering for Events. \nLooking for : Hosting events at Red Fork – could be in collaboration with others – photographer\, musician\, book reading\, kids training camp\, etc \n5. Perin Patel – Works in the retail business of Mattresses as part of the family business. In addition is a certified “CueMath” teacher. Also does soft skills training primarily for software engineers. \nLooking for: Talking to parents how “Cue Math” can make a difference to a child’s mathematics skills. \n6. Zaver – Is into the manufacture of chocolates. Caters to corporate\, International Retail brands\, 5 star hotels\, Builders etc. \nLooking for: Increasing her reach into corporates and other business entities\, especially to companies who are looking for gifting chocolate boxes for this Diwali season to their staff and customers.
URL:https://wzcc.org/events/wzcc-networking-meet-july-21-2017/
CATEGORIES:Bengaluru
END:VEVENT
END:VCALENDAR