BEGIN:VCALENDAR
VERSION:2.0
PRODID:-//World Zarathushti Chamber Of Commerce - ECPv6.15.19//NONSGML v1.0//EN
CALSCALE:GREGORIAN
METHOD:PUBLISH
X-WR-CALNAME:World Zarathushti Chamber Of Commerce
X-ORIGINAL-URL:https://wzcc.org
X-WR-CALDESC:Events for World Zarathushti Chamber Of Commerce
REFRESH-INTERVAL;VALUE=DURATION:PT1H
X-Robots-Tag:noindex
X-PUBLISHED-TTL:PT1H
BEGIN:VTIMEZONE
TZID:UTC
BEGIN:STANDARD
TZOFFSETFROM:+0000
TZOFFSETTO:+0000
TZNAME:UTC
DTSTART:20240101T000000
END:STANDARD
END:VTIMEZONE
BEGIN:VEVENT
DTSTART;TZID=UTC:20250801T180000
DTEND;TZID=UTC:20250801T210000
DTSTAMP:20260424T065610
CREATED:20250724T105132Z
LAST-MODIFIED:20250724T105220Z
UID:17967-1754071200-1754082000@wzcc.org
SUMMARY:WZCC Lawyers Forum
DESCRIPTION:Key Legal Issues in Redevelopment\n(Tenants\, landlords\, societies\, disputes)\nPractical Challenges & Considerations.\n(Documents\, risks\, benefits\, trust properties)\n6PM onwards | Friday IMC\n(i) Rugust1\, 2025 Chambers of Commerce & Industry\nMumbai\nFOR MORE DETAILS CONTACT\nZERICK DASTUR -91 98207 92004 | BEHNAZ NANAVATTI 91 99754 99754\nT0 REGISTER CALL ON -91 98205 70087
URL:https://wzcc.org/events/wzcc-lawyers-forum/
CATEGORIES:Mumbai
ATTACH;FMTTYPE=image/jpeg:https://wzcc.org/wp-content/uploads/2025/07/WhatsApp-Image-2025-07-22-at-17.05.21_7e3a5101.jpg
END:VEVENT
BEGIN:VEVENT
DTSTART;TZID=UTC:20250802T183000
DTEND;TZID=UTC:20250802T210000
DTSTAMP:20260424T065610
CREATED:20250724T122557Z
LAST-MODIFIED:20250724T122557Z
UID:17999-1754159400-1754168400@wzcc.org
SUMMARY:STARTUP TO SCALE UP STRATEGIES FOR GROWTH
DESCRIPTION:WORLD ZARATHUSHTI CHAMBER OF\nCOMMERCE – MUMBAI CHAPTER\nPresents\nSTARTUP TO SCALE UP\nSTRATEGIES FOR GROWTH\nAn engaging panel discussion with eminent\nleaders from diverse business sectors \nA fine blend of Business\, Finance & Networking | \nFollowed by Cocktails & Dinner \nMembers & Spouse : Rs. 1\,000 per person | \nGuests : Rs. 1\,500 per person \nConfirm your attendance with your full name & food preference :\nBurges Wania (Secretary) : 9819155841 | \n~~ PercyKaikobad (Treasurer): 9820916506
URL:https://wzcc.org/events/startup-to-scale-up-strategies-for-growth/
CATEGORIES:Mumbai
ATTACH;FMTTYPE=image/jpeg:https://wzcc.org/wp-content/uploads/2025/07/unnamed.jpg
END:VEVENT
END:VCALENDAR